Workbook

Sheet Info
A2: Denne filen er sist oppdatert av NVE i oktober 2026
A5: Kontaktperson NVE:
A6: Dag Spilde
A7: dsp@nve.no

Sheet Energiintensitet
A1: 09189: Makroøkonomiske hovedstørrelser, etter makrostørrelse, statistikkvariabel og år
A2: Faste 2023-priser (mill. kr) | B2: 2015 | C2: 2016 | D2: 2017 | E2: 2018 | F2: 2019 | G2: 2020 | H2: 2021 | I2: 2022 | J2: 2023 | K2: 2024 | L2: 2025
A3: Bruttonasjonalprodukt Fastlands-Norge, markedsverdi | B3: 3427830 | C3: 3463644 | D3: 3546172 | E3: 3622277 | F3: 3719997 | G3: 3618563 | H3: 3788134 | I3: 3986321 | J3: 4021611 | K3: 4047656 | L3: 4117384 | N3: Kilde: | O3: 09189: Makroøkonomiske hovedstørrelser 1970-2025
A4: 2015=100 | B4: =100*(B3/$B$3) -> 100 | C4: =100*(C3/$B$3) -> 101.0448 | D4: =100*(D3/$B$3) -> 103.45239 | E4: =100*(E3/$B$3) -> 105.6726 | F4: =100*(F3/$B$3) -> 108.52338 | G4: =100*(G3/$B$3) -> 105.56425 | H4: =100*(H3/$B$3) -> 110.51114 | I4: =100*(I3/$B$3) -> 116.29284 | ... L4: =100*(L3/$B$3) -> 120.11634
A6: 11561: Energibalansen. Tilgang og forbruk, etter energibalanseposter, statistikkvariabel og år
A7: GWh | B7: 2015 | C7: 2016 | D7: 2017 | E7: 2018 | F7: 2019 | G7: 2020 | H7: 2021 | I7: 2022 | J7: 2023 | K7: 2024 | L7: 2025
A8: 12 Netto innenlands forbruk eksl. råstoff | B8: 214145 | C8: 217772 | D8: 218843 | E8: 221106 | F8: 218606 | G8: 214390 | H8: 225991 | I8: 218606 | J8: 215873 | K8: 214215 | L8: 212019 | N8: Kilde: | O8: 11561: Energibalanse. Tilgang og anvendelse av energiprodukter 1990-2025
A9: 2015=100 | B9: =100*(B8/$B$8) -> 100 | C9: =100*(C8/$B$8) -> 101.69371 | D9: =100*(D8/$B$8) -> 102.19384 | E9: =100*(E8/$B$8) -> 103.2506 | F9: =100*(F8/$B$8) -> 102.08317 | G9: =100*(G8/$B$8) -> 100.11441 | H9: =100*(H8/$B$8) -> 105.53177 | I9: =100*(I8/$B$8) -> 102.08317 | ... L9: =100*(L8/$B$8) -> 99.007215
B11: 2015 | C11: 2016 | D11: 2017 | E11: 2018 | F11: 2019 | G11: 2020 | H11: 2021 | I11: 2022 | J11: 2023 | K11: 2024 | L11: 2025
A12: Energiintensitet (Energibruk/Faste 2015-priser) | B12: =B8/B3 -> 0.062472468 | C12: =C8/C3 -> 0.062873667 | D12: =D8/D3 -> 0.061712461 | E12: =E8/E3 -> 0.061040611 | F12: =F8/F3 -> 0.058765101 | G12: =G8/G3 -> 0.059247276 | H12: =H8/H3 -> 0.059657605 | I12: =I8/I3 -> 0.054839036 | ... L12: =L8/L3 -> 0.051493618
A13: 2015=100 | B13: =100*(B12/$B$12) -> 100 | C13: =100*(C12/$B$12) -> 100.6422 | D13: =100*(D12/$B$12) -> 98.783452 | E13: =100*(E12/$B$12) -> 97.708019 | F13: =100*(F12/$B$12) -> 94.065599 | G13: =100*(G12/$B$12) -> 94.837418 | H13: =100*(H12/$B$12) -> 95.494234 | I13: =100*(I12/$B$12) -> 87.781126 | ... L13: =100*(L12/$B$12) -> 82.426099
B15: 2015 | C15: 2016 | D15: 2017 | E15: 2018 | F15: 2019 | G15: 2020 | H15: 2021 | I15: 2022 | J15: 2023 | K15: 2024 | L15: 2025
A16: BNP Fastlands-Norge | B16: =B4 -> 100 | C16: =C4 -> 101.0448 | D16: =D4 -> 103.45239 | E16: =E4 -> 105.6726 | F16: =F4 -> 108.52338 | G16: =G4 -> 105.56425 | H16: =H4 -> 110.51114 | I16: =I4 -> 116.29284 | ... L16: =L4 -> 120.11634
A17: Energibruk | B17: =B9 -> 100 | C17: =C9 -> 101.69371 | D17: =D9 -> 102.19384 | E17: =E9 -> 103.2506 | F17: =F9 -> 102.08317 | G17: =G9 -> 100.11441 | H17: =H9 -> 105.53177 | I17: =I9 -> 102.08317 | ... L17: =L9 -> 99.007215
A18: Energiintensitet | B18: =(B17/B16)*100 -> 100 | C18: =(C17/C16)*100 -> 100.6422 | D18: =(D17/D16)*100 -> 98.783452 | E18: =(E17/E16)*100 -> 97.708019 | F18: =(F17/F16)*100 -> 94.065599 | G18: =(G17/G16)*100 -> 94.837418 | H18: =(H17/H16)*100 -> 95.494234 | I18: =(I17/I16)*100 -> 87.781126 | ... L18: =(L17/L16)*100 -> 82.426099
A19: BNP Fastlands-Norge | B19: =(B3-$B3)/$B3 -> 0 | C19: =(C3-$B3)/$B3 -> 0.010448009 | D19: =(D3-$B3)/$B3 -> 0.034523882 | E19: =(E3-$B3)/$B3 -> 0.056725975 | F19: =(F3-$B3)/$B3 -> 0.085233807 | G19: =(G3-$B3)/$B3 -> 0.055642491 | H19: =(H3-$B3)/$B3 -> 0.1051114 | I19: =(I3-$B3)/$B3 -> 0.16292844 | ... L19: =(L3-$B3)/$B3 -> 0.20116342
A20: Energibruk i Fastlands-Norge | B20: =(B8-$B8)/$B8 -> 0 | C20: =(C8-$B8)/$B8 -> 0.016937122 | D20: =(D8-$B8)/$B8 -> 0.021938406 | E20: =(E8-$B8)/$B8 -> 0.032506012 | F20: =(F8-$B8)/$B8 -> 0.020831679 | G20: =(G8-$B8)/$B8 -> 0.0011440846 | H20: =(H8-$B8)/$B8 -> 0.055317659 | I20: =(I8-$B8)/$B8 -> 0.020831679 | ... L20: =(L8-$B8)/$B8 -> -0.0099278526
A21: Energiintensitet | B21: =(B12-$B12)/$B12 -> 0 | C21: =(C12-$B12)/$B12 -> 0.0064220154 | D21: =(D12-$B12)/$B12 -> -0.012165477 | E21: =(E12-$B12)/$B12 -> -0.022919814 | F21: =(F12-$B12)/$B12 -> -0.059344011 | G21: =(G12-$B12)/$B12 -> -0.051625817 | H21: =(H12-$B12)/$B12 -> -0.045057664 | I21: =(I12-$B12)/$B12 -> -0.12218874 | ... L21: =(L12-$B12)/$B12 -> -0.17573901

Sheet Energieffektivisering bygg
A1: Husholdninger | B1: Energibruk/pers | C1: Strømbruk/pers | E1: Tjenesteytende | F1: Energibruk/m2 | G1: Strømbruk/m2 | J1: Indikator | K1: Nedgang 2015-2025, kWh per enhet | L1: Endring, %
A2: År | B2: (kWh/pers) | C2: (kWh/pers) | E2: År | F2: kWh/m2 | G2: kWh/m2 | I2: Husholdninger | J2: Energibruk per husholdning | K2: =B27-B17 -> -2563.928 | L2: =K2/B17 -> -0.13972515
A3: 2015 | B3: 8153.0729 | C3: 6991.1977 | E3: 2015 | F3: 249.59577 | G3: 189.45782 | J3: Strømbruk per husholdning | K3: =C27-C17 -> -2233.9917 | L3: =K3/C17 -> -0.14197768
A4: 2016 | B4: 8321.8642 | C4: 7143.9208 | E4: 2016 | F4: 258.49162 | G4: 190.47971 | J4: Energibruk per person | K4: =B13-B3 -> -721.04394 | L4: =K4/B3 -> -0.088438303
A5: 2017 | B5: 8359.7404 | C5: 7134.199 | E5: 2017 | F5: 250.94255 | G5: 185.80854 | J5: Strømbruk per person | K5: =C13-C3 -> -634.97637 | L5: =K5/C3 -> -0.090825119
A6: 2018 | B6: 8256.2406 | C6: 7129.4085 | E6: 2018 | F6: 253.09561 | G6: 186.60534 | J6: Energibruk per kvadratmeter | K6: =B41-B31 -> -15.409316 | L6: =K6/B31 -> -0.11654974
A7: 2019 | B7: 7998.5766 | C7: 7009.304 | E7: 2019 | F7: 244.38885 | G7: 180.11646 | J7: Strømbruk per kvadratmeter | K7: =C41-C31 -> -13.475622 | L7: =K7/C31 -> -0.11886295
A8: 2020 | B8: 7947.5176 | C8: 6951.1102 | E8: 2020 | F8: 227.36032 | G8: 167.19811 | I8: Tjenesteytende | J8: Energibruk per kvadratmeter | K8: =F13-F3 -> -37.71502 | L8: =K8/F3 -> -0.15110441
A9: 2021 | B9: 8312.9503 | C9: 7135.866 | E9: 2021 | F9: 239.44752 | G9: 174.0603 | J9: Strømbruk per kvadratmeter | K9: =G13-G3 -> -40.575105 | L9: =K9/G3 -> -0.21416432
A10: 2022 | B10: 7396.8151 | C10: 6199.1436 | E10: 2022 | F10: 224.02707 | G10: 161.68522 | J10: Energibruk per sysselsatt | K10: =F27-F17 -> -1420.3949 | L10: =K10/F17 -> -0.11973035
A11: 2023 | B11: 7776.112 | C11: 6558.4989 | E11: 2023 | F11: 224.93126 | G11: 155.45189 | J11: Strømbruk per sysselsatt | K11: =G27-G17 -> -1666.9998 | L11: =K11/G17 -> -0.18512088
A12: 2024 | B12: 7696.3502 | C12: 6537.6792 | E12: 2024 | F12: 218.67204 | G12: 151.1657 | J12: Energibruk per bruttoprodukt | K12: =F41-F31 -> -3448.3531 | L12: =K12/F31 -> -0.19294187
A13: 2025 | B13: 7432.029 | C13: 6356.2213 | E13: 2025 | F13: 211.88075 | G13: 148.88271 | J13: Strømbruk per bruttoprodukt | K13: =G41-G31 -> -3430.8278 | L13: =K13/G31 -> -0.2528939
A15: Husholdninger | B15: Energibruk/husholdning | C15: Strømbruk/husholdning | E15: Tjenesteytende | F15: Energibruk/sysselsatt | G15: Strømbruk/sysselsatt
A16: År | B16: (kWh/husholdning) | C16: (kWh/husholdning) | E16: År | F16: kWh/sysselsatt | G16: kWh/sysselsatt
A17: 2015 | B17: 18349.796 | C17: 15734.81 | E17: 2015 | F17: 11863.282 | G17: 9004.9261
A18: 2016 | B18: 18630.388 | C18: 15993.294 | E18: 2016 | F18: 12514.443 | G18: 9221.7589
A19: 2017 | B19: 18624.544 | C19: 15894.178 | E19: 2017 | F19: 12341.632 | G19: 9138.2697
A20: 2018 | B20: 18259.156 | C20: 15767.102 | E20: 2018 | F20: 12465.108 | G20: 9190.4232
A21: 2019 | B21: 17600.96 | C21: 15424.054 | E21: 2019 | F21: 12113.913 | G21: 8928.047
A22: 2020 | B22: 17311.148 | C22: 15140.79 | E22: 2020 | F22: 11530.923 | G22: 8479.7048
A23: 2021 | B23: 17951.556 | C23: 15409.68 | E23: 2021 | F23: 11899.892 | G23: 8650.3244
A24: 2022 | B24: 15947.589 | C24: 13365.401 | E24: 2022 | F24: 10907.09 | G24: 7871.8849
A25: 2023 | B25: 16717.143 | C25: 14099.51 | E25: 2023 | F25: 10972.879 | G25: 7583.4492
A26: 2024 | B26: 16450.742 | C26: 13974.113 | E26: 2024 | F26: 10735.376 | G26: 7421.253
A27: 2025 | B27: 15785.868 | C27: 13500.818 | E27: 2025 | F27: 10442.887 | G27: 7337.9263
A29: Husholdninger | B29: Energibruk/m2 | C29: Strømbruk/m2 | E29: Tjenesteytende | F29: Energibruk/bruttoprodukt | G29: Strømbruk/bruttoprodukt
A30: År | B30: kWh/m2 | C30: kWh/m2 | E30: År | F30: kWh/mill. 2023-kroner | G30: kWh/mill. 2023-kroner
A31: 2015 | B31: 132.21236 | C31: 113.37109 | E31: 2015 | F31: 17872.497 | G31: 13566.273
A32: 2016 | B32: 134.59533 | C32: 115.54363 | E32: 2016 | F32: 18523.843 | G32: 13650.021
A33: 2017 | B33: 134.63283 | C33: 114.8956 | E33: 2017 | F33: 17982.547 | G33: 13315.043
A34: 2018 | B34: 132.1854 | C34: 114.14441 | E34: 2018 | F34: 18164.037 | G34: 13392.198
A35: 2019 | B35: 127.4468 | C35: 111.68404 | E35: 2019 | F35: 17493.238 | G35: 12892.651
A36: 2020 | B36: 125.78471 | C36: 110.01465 | E36: 2020 | F36: 16779.852 | G36: 12339.706
A37: 2021 | B37: 131.07993 | C37: 112.51947 | E37: 2021 | F37: 17134.002 | G37: 12455.128
A38: 2022 | B38: 116.99214 | C38: 98.0491 | E38: 2022 | F38: 15335.496 | G38: 11067.962
A39: 2023 | B39: 122.84193 | C39: 103.60688 | E39: 2023 | F39: 15433.868 | G39: 10666.476
A40: 2024 | B40: 121.33233 | C40: 103.06598 | E40: 2024 | F40: 15007.282 | G40: 10374.378
A41: 2025 | B41: 116.80304 | C41: 99.895464 | E41: 2025 | F41: 14424.144 | G41: 10135.445

Sheet 10 TWh
A1: Kilde: | B1: Energieffektivisering - NVE
A2: År | B2: Husholdninger | C2: Tjenesteyting | D2: Historikk | E2: Mål 10 TWh
A3: 2015 | B3: 40.409203 | C3: 24.400172 | D3: =B3+C3 -> 64.809375 | E3: 54.809375
A4: 2016 | B4: 40.6795 | C4: 24.613733 | D4: =B4+C4 -> 65.293233 | E4: 54.809375
A5: 2017 | B5: 40.768314 | C5: 24.405002 | D5: =B5+C5 -> 65.173316 | E5: 54.809375
A6: 2018 | B6: 41.103942 | C6: 24.999794 | D6: =B6+C6 -> 66.103736 | E6: 54.809375
A7: 2019 | B7: 40.733498 | C7: 24.567935 | D7: =B7+C7 -> 65.301432 | E7: 54.809375
A8: 2020 | B8: 43.378171 | C8: 24.089514 | D8: =B8+C8 -> 67.467686 | E8: 54.809375
A9: 2021 | B9: 41.810414 | C9: 24.085981 | D9: =B9+C9 -> 65.896394 | E9: 54.809375
A10: 2022 | B10: 38.025383 | C10: 23.009117 | D10: =B10+C10 -> 61.0345 | E10: 54.809375
A11: 2023 | B11: 38.851213 | C11: 21.81732 | D11: =B11+C11 -> 60.668533 | E11: 54.809375
A12: 2024 | B12: 40.992533 | C12: 22.037458 | D12: =B12+C12 -> 63.029992 | E12: 54.809375
A13: 2025 | B13: 41.509924 | C13: 22.335155 | D13: =B13+C13 -> 63.845079 | E13: 54.809375

Sheet EB2025
A1: 11561: Energibalansen. Tilgang og forbruk, etter energibalanseposter, statistikkvariabel, år og energiprodukt
A2: https://www.ssb.no/statbank/table/11561/
B3: Energibalansen (GWh)
A4: 2025 | B4: 2025
B5: Alle energiprodukter | C5: Elektrisitet | D5: Fjernvarme | E5: Bio | F5: Olje | G5: Fossilt drivstoff | H5: Gass | I5: Kull og koks | J5: Ikke-fornybart avfall | K5: Oljeprodukter ikke nevnt andre steder | L5: Alle energiprodukter | M5: Kull og brunkull | N5: Kullprodukter | O5: Naturgass | P5: Råolje | Q5: NGL | R5: LPG og etan | S5: Bensin (ekskl. bio) | T5: Jetparafin | U5: Fyringsparafin og andre parafiner | V5: Anleggsdiesel | W5: Autodiesel (ekskl. bio) | X5: Marine gassoljer | Y5: Lett fyringsolje | Z5: Tungdestillater | AA5: Tungolje | AB5: Oljeprodukter ikke nevnt andre steder | AC5: Faste biobrensler | AD5: Flytende biobrensler | AE5: Biogass | AF5: Ikke-fornybart avfall | AG5: Fornybart avfall | AH5: Elektrisitet | AI5: Fjernvarme | AJ5: Energiprodukter ikke nevnt andre steder
A6: 4.1 Internasjonal sjøfart bunkers | B6: =C6+D6+E6+F6+G6+H6+I6+J6+K6 -> 3134 | C6: =AH6 -> 0 | D6: =AI6 -> 0 | E6: =AC6+AD6+AE6+AG6 -> 0 | F6: =U6+Y6+Z6+AA6+P6+Q6 -> 0 | G6: =S6+T6+V6+W6+X6 -> 1896 | H6: =O6+R6 -> 1238 | I6: =M6+N6 -> 0 | J6: =AF6 -> 0 | K6: =AB6 -> 0 | L6: 3134 | M6: 0 | N6: 0 | O6: 1238 | P6: 0 | Q6: 0 | R6: 0 | S6: 0 | T6: 0 | U6: 0 | V6: 0 | W6: 0 | X6: 1896 | Y6: 0 | Z6: 0 | AA6: 0 | AB6: 0 | AC6: 0 | AD6: 0 | AE6: 0 | AF6: 0 | AG6: 0 | AH6: 0 | AI6: 0 | AJ6: 0
A7: 4.2 Internasjonal luftfart bunkers | B7: =C7+D7+E7+F7+G7+H7+I7+J7+K7 -> 6358 | C7: =AH7 -> 0 | D7: =AI7 -> 0 | E7: =AC7+AD7+AE7+AG7 -> 0 | F7: =U7+Y7+Z7+AA7+P7+Q7 -> 0 | G7: =S7+T7+V7+W7+X7 -> 6358 | H7: =O7+R7 -> 0 | I7: =M7+N7 -> 0 | J7: =AF7 -> 0 | K7: =AB7 -> 0 | L7: 6358 | M7: 0 | N7: 0 | O7: 0 | P7: 0 | Q7: 0 | R7: 0 | S7: 0 | T7: 6358 | U7: 0 | V7: 0 | W7: 0 | X7: 0 | Y7: 0 | Z7: 0 | AA7: 0 | AB7: 0 | AC7: 0 | AD7: 0 | AE7: 0 | AF7: 0 | AG7: 0 | AH7: 0 | AI7: 0 | AJ7: 0
A8: 5 Lagerendringer (+ = nedgang, - = økning) | B8: =C8+D8+E8+F8+G8+H8+I8+J8+K8 -> 3866 | C8: =AH8 -> 0 | D8: =AI8 -> 0 | E8: =AC8+AD8+AE8+AG8 -> 0 | F8: =U8+Y8+Z8+AA8+P8+Q8 -> 254 | G8: =S8+T8+V8+W8+X8 -> 901 | H8: =O8+R8 -> 1971 | I8: =M8+N8 -> 378 | J8: =AF8 -> 0 | K8: =AB8 -> 362 | L8: -1891 | M8: 275 | N8: 103 | O8: 1593 | P8: 130 | Q8: 4 | R8: 378 | S8: 131 | T8: 153 | U8: 0 | V8: 106 | W8: 284 | X8: 227 | Y8: 3 | Z8: 103 | AA8: 14 | AB8: 362 | AC8: 0 | AD8: 0 | AE8: 0 | AF8: 0 | AG8: 0 | AH8: 0 | AI8: 0 | AJ8: 0
A9: 6 Netto innenlands tilgang (1+2-3-4+5) | B9: =C9+D9+E9+F9+G9+H9+I9+J9+K9 -> 408130 | C9: =AH9 -> 137681 | D9: =AI9 -> 0 | E9: =AC9+AD9+AE9+AG9 -> 21661 | F9: =U9+Y9+Z9+AA9+P9+Q9 -> 132852 | G9: =S9+T9+V9+W9+X9 -> 37700 | H9: =O9+R9 -> 61995 | I9: =M9+N9 -> 8776 | J9: =AF9 -> 2973 | K9: =AB9 -> 4492 | L9: 326017 | M9: 5300 | N9: 3476 | O9: 47568 | P9: 108098 | Q9: 17213 | R9: 14427 | S9: 30856 | T9: 2295 | U9: 18 | V9: 1108 | W9: 2970 | X9: 471 | Y9: 1054 | Z9: 3412 | AA9: 3057 | AB9: 4492 | AC9: 12209 | AD9: 6347 | AE9: 926 | AF9: 2973 | AG9: 2179 | AH9: 137681 | AI9: 0 | AJ9: 0
A10: 7 Transformasjon | B10: =C10+D10+E10+F10+G10+H10+I10+J10+K10 -> 260693 | C10: =AH10 -> 1076 | D10: =AI10 -> 7690 | E10: =AC10+AD10+AE10+AG10 -> 5345 | F10: =U10+Y10+Z10+AA10+P10+Q10 -> 120740 | G10: =S10+T10+V10+W10+X10 -> 93219 | H10: =O10+R10 -> 5486 | I10: =M10+N10 -> 515 | J10: =AF10 -> 1856 | K10: =AB10 -> 24766 | L10: 763 | M10: 464 | N10: 51 | O10: 1659 | P10: 101985 | Q10: 15653 | R10: 3827 | S10: 40987 | T10: 6980 | U10: 4 | V10: 7647 | W10: 20926 | X10: 16679 | Y10: 146 | Z10: 0 | AA10: 2952 | AB10: 24766 | AC10: 3156 | AD10: 140 | AE10: 39 | AF10: 1856 | AG10: 2010 | AH10: 1076 | AI10: 7690 | AJ10: 0
A11: 7.1 I jernverk | B11: =C11+D11+E11+F11+G11+H11+I11+J11+K11 -> 644 | C11: =AH11 -> 0 | D11: =AI11 -> 0 | E11: =AC11+AD11+AE11+AG11 -> 0 | F11: =U11+Y11+Z11+AA11+P11+Q11 -> 0 | G11: =S11+T11+V11+W11+X11 -> 0 | H11: =O11+R11 -> 0 | I11: =M11+N11 -> 644 | J11: =AF11 -> 0 | K11: =AB11 -> 0 | L11: -284 | M11: 464 | N11: 180 | O11: 0 | P11: 0 | Q11: 0 | R11: 0 | S11: 0 | T11: 0 | U11: 0 | V11: 0 | W11: 0 | X11: 0 | Y11: 0 | Z11: 0 | AA11: 0 | AB11: 0 | AC11: 0 | AD11: 0 | AE11: 0 | AF11: 0 | AG11: 0 | AH11: 0 | AI11: 0 | AJ11: 0
A12: 7.2 I oljeraffineri | B12: =C12+D12+E12+F12+G12+H12+I12+J12+K12 -> 241893 | C12: =AH12 -> 0 | D12: =AI12 -> 0 | E12: =AC12+AD12+AE12+AG12 -> 0 | F12: =U12+Y12+Z12+AA12+P12+Q12 -> 120781 | G12: =S12+T12+V12+W12+X12 -> 92893 | H12: =O12+R12 -> 6983 | I12: =M12+N12 -> 0 | J12: =AF12 -> 0 | K12: =AB12 -> 21236 | L12: 713 | M12: 0 | N12: 0 | O12: 0 | P12: 101985 | Q12: 15653 | R12: 6983 | S12: 40500 | T12: 6980 | U12: 4 | V12: 7808 | W12: 20926 | X12: 16679 | Y12: 187 | Z12: 0 | AA12: 2952 | AB12: 21236 | AC12: 0 | AD12: 0 | AE12: 0 | AF12: 0 | AG12: 0 | AH12: 0 | AI12: 0 | AJ12: 0
A13: 7.3 I varmekraftverk | B13: =C13+D13+E13+F13+G13+H13+I13+J13+K13 -> 1177 | C13: =AH13 -> 932 | D13: =AI13 -> 0 | E13: =AC13+AD13+AE13+AG13 -> 1 | F13: =U13+Y13+Z13+AA13+P13+Q13 -> 0 | G13: =S13+T13+V13+W13+X13 -> 20 | H13: =O13+R13 -> 0 | I13: =M13+N13 -> 224 | J13: =AF13 -> 0 | K13: =AB13 -> 0 | L13: 688 | M13: 0 | N13: 224 | O13: 0 | P13: 0 | Q13: 0 | R13: 0 | S13: 0 | T13: 0 | U13: 0 | V13: 20 | W13: 0 | X13: 0 | Y13: 0 | Z13: 0 | AA13: 0 | AB13: 0 | AC13: 0 | AD13: 0 | AE13: 1 | AF13: 0 | AG13: 0 | AH13: 932 | AI13: 0 | AJ13: 0
A14: 7.4 I kombinerte kraftvarmeverk | B14: =C14+D14+E14+F14+G14+H14+I14+J14+K14 -> 8744 | C14: =AH14 -> 1338 | D14: =AI14 -> 2441 | E14: =AC14+AD14+AE14+AG14 -> 2142 | F14: =U14+Y14+Z14+AA14+P14+Q14 -> 6 | G14: =S14+T14+V14+W14+X14 -> 139 | H14: =O14+R14 -> 1557 | I14: =M14+N14 -> 0 | J14: =AF14 -> 1121 | K14: =AB14 -> 0 | L14: -1184 | M14: 0 | N14: 0 | O14: 1554 | P14: 0 | Q14: 0 | R14: 3 | S14: 0 | T14: 0 | U14: 0 | V14: 139 | W14: 0 | X14: 0 | Y14: 6 | Z14: 0 | AA14: 0 | AB14: 0 | AC14: 905 | AD14: 3 | AE14: 20 | AF14: 1121 | AG14: 1214 | AH14: 1338 | AI14: 2441 | AJ14: 0
A15: 7.5 I fjernvarmeverk | B15: =C15+D15+E15+F15+G15+H15+I15+J15+K15 -> 10595 | C15: =AH15 -> 1195 | D15: =AI15 -> 5248 | E15: =AC15+AD15+AE15+AG15 -> 3202 | F15: =U15+Y15+Z15+AA15+P15+Q15 -> 36 | G15: =S15+T15+V15+W15+X15 -> 1 | H15: =O15+R15 -> 171 | I15: =M15+N15 -> 7 | J15: =AF15 -> 735 | K15: =AB15 -> 0 | L15: -100 | M15: 0 | N15: 7 | O15: 104 | P15: 0 | Q15: 0 | R15: 67 | S15: 0 | T15: 0 | U15: 0 | V15: 1 | W15: 0 | X15: 0 | Y15: 36 | Z15: 0 | AA15: 0 | AB15: 0 | AC15: 2251 | AD15: 136 | AE15: 19 | AF15: 735 | AG15: 796 | AH15: 1195 | AI15: 5248 | AJ15: 0
A16: 7.6 Annen transformasjon | B16: =C16+D16+E16+F16+G16+H16+I16+J16+K16 -> 7103 | C16: =AH16 -> 0 | D16: =AI16 -> 0 | E16: =AC16+AD16+AE16+AG16 -> 0 | F16: =U16+Y16+Z16+AA16+P16+Q16 -> 0 | G16: =S16+T16+V16+W16+X16 -> 486 | H16: =O16+R16 -> 3087 | I16: =M16+N16 -> 0 | J16: =AF16 -> 0 | K16: =AB16 -> 3530 | L16: 930 | M16: 0 | N16: 0 | O16: 0 | P16: 0 | Q16: 0 | R16: 3087 | S16: 486 | T16: 0 | U16: 0 | V16: 0 | W16: 0 | X16: 0 | Y16: 0 | Z16: 0 | AA16: 0 | AB16: 3530 | AC16: 0 | AD16: 0 | AE16: 0 | AF16: 0 | AG16: 0 | AH16: 0 | AI16: 0 | AJ16: 0
A17: 8 Eget forbruk i energiproduserende sektor | B17: =C17+D17+E17+F17+G17+H17+I17+J17+K17 -> 61386 | C17: =AH17 -> 13714 | D17: =AI17 -> 156 | E17: =AC17+AD17+AE17+AG17 -> 14 | F17: =U17+Y17+Z17+AA17+P17+Q17 -> 30 | G17: =S17+T17+V17+W17+X17 -> 3351 | H17: =O17+R17 -> 38294 | I17: =M17+N17 -> 0 | J17: =AF17 -> 0 | K17: =AB17 -> 5827 | L17: 61386 | M17: 0 | N17: 0 | O17: 38062 | P17: 0 | Q17: 0 | R17: 232 | S17: 0 | T17: 0 | U17: 0 | V17: 43 | W17: 0 | X17: 3308 | Y17: 30 | Z17: 0 | AA17: 0 | AB17: 5827 | AC17: 0 | AD17: 14 | AE17: 0 | AF17: 0 | AG17: 0 | AH17: 13714 | AI17: 156 | AJ17: 0
... A57: 12.3.4 Private husholdninger | B57: =C57+D57+E57+F57+G57+H57+I57+J57+K57 -> 45322 | C57: =AH57 -> 38209 | D57: =AI57 -> 1863 | E57: =AC57+AD57+AE57+AG57 -> 5213 | F57: =U57+Y57+Z57+AA57+P57+Q57 -> 0 | G57: =S57+T57+V57+W57+X57 -> 0 | H57: =O57+R57 -> 37 | I57: =M57+N57 -> 0 | J57: =AF57 -> 0 | K57: =AB57 -> 0 | L57: 45323 | M57: 0 | N57: 0 | O57: 10 | P57: 0 | Q57: 0 | R57: 27 | S57: 0 | T57: 0 | U57: 0 | V57: 0 | W57: 0 | X57: 0 | Y57: 0 | Z57: 0 | AA57: 0 | AB57: 0 | AC57: 5213 | AD57: 0 | AE57: 0 | AF57: 0 | AG57: 0 | AH57: 38209 | AI57: 1863 | AJ57: 0
L58: 11630 | M58: 37 | N58: 185 | O58: 761 | P58: 460 | Q58: 1741 | R58: 7572 | S58: 1795 | T58: 917 | U58: 14 | V58: 83 | W58: 2326 | X58: 292 | Y58: 455 | Z58: 2001 | AA58: 1157 | AB58: 3561 | AC58: 7 | AD58: 787 | AE58: 95 | AF58: 4 | AG58: 4 | AH58: 230 | AI58: 0 | AJ58: 0
L59: 1816 | M59: 0 | N59: 0 | O59: 1816 | P59: 0 | Q59: 0 | R59: 0 | S59: 0 | T59: 0 | U59: 0 | V59: 0 | W59: 0 | X59: 0 | Y59: 0 | Z59: 0 | AA59: 0 | AB59: 0 | AC59: 0 | AD59: 0 | AE59: 0 | AF59: 0 | AG59: 0 | AH59: 0 | AI59: 0 | AJ59: 0
L60: 161 | M60: 0 | N60: 0 | O60: 159 | P60: 1 | Q60: 0 | R60: 0 | S60: 0 | T60: 0 | U60: 0 | V60: 0 | W60: 0 | X60: 0 | Y60: 0 | Z60: 0 | AA60: 0 | AB60: 0 | AC60: 0 | AD60: 0 | AE60: 0 | AF60: 0 | AG60: 0 | AH60: 0 | AI60: 0 | AJ60: 0

Sheet Tot energibruk - vare
A1: 11561: Energibalansen. Tilgang og forbruk, etter energibalanseposter, energiprodukt, statistikkvariabel og år
A2: https://www.ssb.no/statbank/table/11561/
A3: Samlet energibruk innenlands | D3: Energibalansen | G3: TWh
A5: Energisektoren | D5: 1990 | E5: 1991 | F5: 1992 | G5: 1993 | H5: 1994 | I5: 1995 | J5: 1996 | K5: 1997 | L5: 1998 | M5: 1999 | N5: 2000 | O5: 2001 | P5: 2002 | Q5: 2003 | R5: 2004 | S5: 2005 | T5: 2006 | U5: 2007 | V5: 2008 | W5: 2009 | X5: 2010 | Y5: 2011 | Z5: 2012 | AA5: 2013 | AB5: 2014 | AC5: 2015 | AD5: 2016 | AE5: 2017 | AF5: 2018 | AG5: 2019 | AH5: 2020 | AI5: =AH5+1 -> 2021 | AJ5: 2022 | AK5: 2023 | AL5: =AK5+1 -> 2024 | AM5: =AL5+1 -> 2025
A6: Marine gassoljer | D6: 1.63 | E6: 1.914 | F6: 1.869 | G6: 1.943 | H6: 2.335 | I6: 2.155 | J6: 2.601 | K6: 2.791 | L6: 3.329 | M6: 3.475 | N6: 3.67 | O6: 3.526 | P6: 3.131 | Q6: 2.697 | R6: 2.685 | S6: 3.108 | T6: 3.238 | U6: 3.369 | V6: 3.443 | W6: 3.864 | X6: 3.975 | Y6: 4.657 | Z6: 4.953 | AA6: 5.556 | AB6: 5.279 | AC6: 4.537 | AD6: 4.216 | AE6: 3.64 | AF6: 4.24 | AG6: 4.324 | AH6: 4.285 | AI6: 4.159 | AJ6: 4.412 | AK6: 3.763 | AL6: 3.645 | AM6: 3.583 | AN6: Stasjonært forbruk til oljeboring m.m.
A7: Andre oljeprodukter | D7: 7.031 | E7: 6.376 | F7: 7.953 | G7: 8.035 | H7: 7.872 | I7: 6.877 | J7: 7.952 | K7: 8.266 | L7: 8.138 | M7: 8.234 | N7: 7.777 | O7: 6.903 | P7: 7.264 | Q7: 8.064 | R7: 7.601 | S7: 8.458 | T7: 8.654 | U7: 8.378 | V7: 7.381 | W7: 8.012 | X7: 6.619 | Y7: 5.939 | Z7: 5.742 | AA7: 7.236 | AB7: 6.159 | AC7: 6.855 | AD7: 5.996 | AE7: 6.926 | AF7: 7.049 | AG7: 5.895 | AH7: 6.143 | AI7: 6.174 | AJ7: 5.281 | AK7: 6.263 | AL7: 6.111 | AM7: 5.827 | AN7: Cracker brukt i raffineri (raffineri regnes som industrinæring)
A8: Gass | D8: 24.97 | E8: 26.354 | F8: 28.193 | G8: 29.867 | H8: 32.325 | I8: 32.776 | J8: 35.148 | K8: 35.982 | L8: 34.411 | M8: 33.165 | N8: 38.611 | O8: 42.469 | P8: 44.28 | Q8: 47.789 | R8: 49.03 | S8: 48.325 | T8: 49.894 | U8: 49.858 | V8: 54.182 | W8: 50.661 | X8: 50.158 | Y8: 48.217 | Z8: 49.024 | AA8: 49.216 | AB8: 51.955 | AC8: 53.715 | AD8: 52.826 | AE8: 54.022 | AF8: 50.641 | AG8: 51.23 | AH8: 49.607 | AI8: 46.621 | AJ8: 44.195 | AK8: 42.884 | AL8: 38.075 | AM8: 38.062 | AN8: Gass i petroleumssektoren
A9: Strøm | D9: 1.953 | E9: 2.163 | F9: 2.196 | G9: 2.163 | H9: 3.066 | I9: 2.787 | J9: 2.145 | K9: 3.717 | L9: 3.042 | M9: 3.382 | N9: 3.129 | O9: 3.172 | P9: 2.976 | Q9: 3.391 | R9: 3.452 | S9: 4.539 | T9: 4.285 | U9: 5.665 | V9: 5.875 | W9: 7.082 | X9: 7.33 | Y9: 8.622 | Z9: 9.216 | AA9: 8.51 | AB9: 8.939 | AC9: 10.112 | AD9: 9.597 | AE9: 10.728 | AF9: 11.391 | AG9: 10.916 | AH9: 11.063 | AI9: 10.11 | AJ9: 11.861 | AK9: 13.37 | AL9: 14.351 | AM9: 13.714 | AN9: strøm brukt i petroleumssektoren, oljeraffineri, kraftsektoren og til fjernvarme.
A10: Sum | D10: =SUM(D6:D9) -> 35.584 | E10: =SUM(E6:E9) -> 36.807 | F10: =SUM(F6:F9) -> 40.211 | G10: =SUM(G6:G9) -> 42.008 | H10: =SUM(H6:H9) -> 45.598 | I10: =SUM(I6:I9) -> 44.595 | J10: =SUM(J6:J9) -> 47.846 | K10: =SUM(K6:K9) -> 50.756 | ... AM10: =SUM(AM6:AM9) -> 61.186
A12: Overføringstap | D12: 1990 | E12: 1991 | F12: 1992 | G12: 1993 | H12: 1994 | I12: 1995 | J12: 1996 | K12: 1997 | L12: 1998 | M12: 1999 | N12: 2000 | O12: 2001 | P12: 2002 | Q12: 2003 | R12: 2004 | S12: 2005 | T12: 2006 | U12: 2007 | V12: 2008 | W12: 2009 | X12: 2010 | Y12: 2011 | Z12: 2012 | AA12: 2013 | AB12: 2014 | AC12: 2015 | AD12: 2016 | AE12: 2017 | AF12: 2018 | AG12: 2019 | AH12: 2020 | AI12: =AI5 -> 2021 | AJ12: 2022 | AK12: 2023 | AL12: =AK12+1 -> 2024 | AM12: =AL12+1 -> 2025
A13: Strøm | D13: 6.874 | E13: 6.703 | F13: 6.814 | G13: 7.976 | H13: 7.877 | I13: 7.263 | J13: 7.357 | K13: 7.452 | L13: 7.763 | M13: 7.457 | N13: 10.075 | O13: 9.967 | P13: 9.338 | Q13: 7.95 | R13: 9.334 | S13: 9.995 | T13: 10.073 | U13: 10.079 | V13: 9.677 | W13: 8.629 | X13: 9.554 | Y13: 7.298 | Z13: 9.158 | AA13: 8.06 | AB13: 7.605 | AC13: 7.469 | AD13: 7.695 | AE13: 7.629 | AF13: 7.564 | AG13: 6.996 | AH13: 6.967 | AI13: 7.653 | AJ13: 7.277 | AK13: 7.95 | AL13: 7.805 | AM13: 7.451 | AU13: https://www.ssb.no/energi-og-industri/energi/statistikk/elektrisitet
A14: Fjernvarme | D14: 0.547 | E14: 0.529 | F14: 0.482 | G14: 0.49 | H14: 0.439 | I14: 0.429 | J14: 0.405 | K14: 0.465 | L14: 0.43 | M14: 0.431 | N14: 0.409 | O14: 0.41 | P14: 0.444 | Q14: 0.622 | R14: 0.608 | S14: 0.613 | T14: 0.63 | U14: 0.683 | V14: 0.727 | W14: 0.894 | X14: 0.549 | Y14: 0.535 | Z14: 0.522 | AA14: 0.605 | AB14: 0.591 | AC14: 0.635 | AD14: 0.682 | AE14: 0.693 | AF14: 0.756 | AG14: 0.751 | AH14: 0.754 | AI14: 0.794 | AJ14: 0.822 | AK14: 0.859 | AL14: 0.834 | AM14: 0.913
A16: Sluttbruk | D16: 1990 | E16: 1991 | F16: 1992 | G16: 1993 | H16: 1994 | I16: 1995 | J16: 1996 | K16: 1997 | L16: 1998 | M16: 1999 | N16: 2000 | O16: 2001 | P16: 2002 | Q16: 2003 | R16: 2004 | S16: 2005 | T16: 2006 | U16: 2007 | V16: 2008 | W16: 2009 | X16: 2010 | Y16: 2011 | Z16: 2012 | AA16: 2013 | AB16: 2014 | AC16: 2015 | AD16: 2016 | AE16: 2017 | AF16: 2018 | AG16: 2019 | AH16: 2020 | AI16: =AH16+1 -> 2021 | AJ16: 2022 | AK16: 2023 | AL16: =AK16+1 -> 2024 | AM16: =AL16+1 -> 2025
A17: Fossilt drivstoff | D17: 47.121 | E17: 45.845 | F17: 46.947 | G17: 48.39 | H17: 48.453 | I17: 51.428 | J17: 54.062 | K17: 55.062 | L17: 56.67 | M17: 58.309 | N17: 54.171 | O17: 56.367 | P17: 56.404 | Q17: 56.722 | R17: 58.304 | S17: 58.154 | T17: 60.381 | U17: 61.816 | V17: 60.206 | W17: 59.427 | X17: 62.135 | Y17: 61.952 | Z17: 62.521 | AA17: 62.871 | AB17: 63.9 | AC17: 63.831 | AD17: 62.793 | AE17: 59.903 | AF17: 61.96 | AG17: 59.48 | AH17: 57.396 | AI17: 59.494 | AJ17: 60.435 | AK17: 56.543 | AL17: 53.663 | AM17: 50.961
A18: Fyringsolje | D18: 16.383 | E18: 15.03 | F18: 14.013 | G18: 13.977 | H18: 16.178 | I18: 15.503 | J18: 19.189 | K18: 15.943 | L18: 14.979 | M18: 15.489 | N18: 11.543 | O18: 12.871 | P18: 12.913 | Q18: 14.866 | R18: 12.537 | S18: 10.442 | T18: 11.155 | U18: 9.329 | V18: 8.386 | W18: 8.321 | X18: 8.73 | Y18: 7.039 | Z18: 5.893 | AA18: 5.485 | AB18: 4.166 | AC18: 3.382 | AD18: 3.241 | AE18: 2.848 | AF18: 2.407 | AG18: 1.698 | AH18: 0.864 | AI18: 0.767 | AJ18: 0.846 | AK18: 0.733 | AL18: 0.433 | AM18: 0.454
A19: Andre oljeprodukter | D19: 3.659 | E19: 3.599 | F19: 3.401 | G19: 3.639 | H19: 3.714 | I19: 2.884 | J19: 3.136 | K19: 3.423 | L19: 3.422 | M19: 3.316 | N19: 3.279 | O19: 3.577 | P19: 3.568 | Q19: 3.621 | R19: 3.421 | S19: 3.313 | T19: 4.271 | U19: 3.539 | V19: 3.603 | W19: 3.203 | X19: 3.627 | Y19: 3.667 | Z19: 3.391 | AA19: 3.731 | AB19: 3.818 | AC19: 3.849 | AD19: 3.26 | AE19: 3.633 | AF19: 3.676 | AG19: 3.761 | AH19: 3.793 | AI19: 3.779 | AJ19: 2.929 | AK19: 3.767 | AL19: 3.697 | AM19: 3.706
A20: Gass | D20: 1.079 | E20: 1.754 | F20: 1.433 | G20: 1.622 | H20: 2.02 | I20: 2.593 | J20: 2.443 | K20: 3.527 | L20: 3.514 | M20: 3.621 | N20: 4.262 | O20: 4.369 | P20: 3.914 | Q20: 4.524 | R20: 5.157 | S20: 4.656 | T20: 5.088 | U20: 5.448 | V20: 6.029 | W20: 6.032 | X20: 7.087 | Y20: 6.649 | Z20: 7.133 | AA20: 7.402 | AB20: 7.358 | AC20: 7.653 | AD20: 7.807 | AE20: 8.016 | AF20: 7.837 | AG20: 7.719 | AH20: 7.372 | AI20: 8.016 | AJ20: 8.298 | AK20: 7.851 | AL20: 7.159 | AM20: 7.567
A21: Kull og koks | D21: 9.228 | E21: 8.214 | F21: 8.299 | G21: 8.814 | H21: 9.943 | I21: 10.688 | J21: 10.756 | K21: 10.698 | L21: 11.308 | M21: 10.88 | N21: 11.167 | O21: 9.797 | P21: 8.378 | Q21: 8.291 | R21: 9.566 | S21: 8.037 | T21: 7.039 | U21: 7.615 | V21: 7.835 | W21: 5.657 | X21: 7.109 | Y21: 7.299 | Z21: 7.601 | AA21: 7.595 | AB21: 7.651 | AC21: 7.417 | AD21: 7.787 | AE21: 7.909 | AF21: 7.613 | AG21: 7.583 | AH21: 7.719 | AI21: 8.367 | AJ21: 7.972 | AK21: 7.291 | AL21: 7.483 | AM21: 7.701
A22: Strøm | D22: 96.661 | E22: 98.857 | F22: 99.207 | G22: 99.868 | H22: 101.699 | I22: 103.654 | J22: 103.031 | K22: 103.785 | L22: 109.547 | M22: 109.876 | N22: 110.412 | O22: 111.738 | P22: 108.162 | Q22: 103.52 | R22: 108.622 | S22: 110.644 | T22: 107.322 | U22: 110.555 | V22: 111.933 | W22: 106.133 | X22: 113.482 | Y22: 107.948 | Z22: 110.641 | AA22: 111.478 | AB22: 108.949 | AC22: 111.453 | AD22: 114.422 | AE22: 114.987 | AF22: 117.046 | AG22: 116.184 | AH22: 115.766 | AI22: 121.754 | AJ22: 114.501 | AK22: 114.799 | AL22: 116.492 | AM22: 117.806
A23: Bioenergi | D23: 9.135 | E23: 8.651 | F23: 8.282 | G23: 9.161 | H23: 9.756 | I23: 9.817 | J23: 10.224 | K23: 10.823 | L23: 9.863 | M23: 10.439 | N23: 10.187 | O23: 10.834 | P23: 11.548 | Q23: 11.63 | R23: 11.085 | S23: 11.482 | T23: 11.481 | U23: 12.009 | V23: 12.543 | W23: 12.008 | X23: 14.961 | Y23: 14.121 | Z23: 13.389 | AA23: 11.934 | AB23: 9.602 | AC23: 10.397 | AD23: 11.898 | AE23: 14.79 | AF23: 13.372 | AG23: 15.022 | AH23: 14.793 | AI23: 16.012 | AJ23: 16.187 | AK23: 16.768 | AL23: 17.348 | AM23: 16.085
A24: Fjernvarme | D24: 0.866 | E24: 1.016 | F24: 1.068 | G24: 1.119 | H24: 1.135 | I24: 1.228 | J24: 1.339 | K24: 1.335 | L24: 1.425 | M24: 1.548 | N24: 1.498 | O24: 1.871 | P24: 2.029 | Q24: 2.186 | R24: 2.344 | S24: 2.465 | T24: 2.628 | U24: 2.886 | V24: 3.061 | W24: 3.454 | X24: 4.472 | Y24: 3.919 | Z24: 4.403 | AA24: 4.915 | AB24: 4.696 | AC24: 5.062 | AD24: 5.484 | AE24: 5.714 | AF24: 6.028 | AG24: 5.98 | AH24: 5.486 | AI24: 6.681 | AJ24: 6.335 | AK24: 7.052 | AL24: 6.867 | AM24: 6.614
A25: Fossilt avfall | D25: 0.465 | E25: 0.391 | F25: 0.539 | G25: 0.493 | H25: 0.548 | I25: 0.604 | J25: 0.534 | K25: 0.718 | L25: 0.836 | M25: 0.652 | N25: 0.778 | O25: 0.808 | P25: 0.839 | Q25: 1.053 | R25: 0.913 | S25: 1.147 | T25: 1.249 | U25: 1.114 | V25: 1.236 | W25: 1.185 | X25: 0.74 | Y25: 0.854 | Z25: 0.846 | AA25: 1.008 | AB25: 1.121 | AC25: 1.101 | AD25: 1.079 | AE25: 1.044 | AF25: 1.169 | AG25: 1.18 | AH25: 1.2 | AI25: 1.122 | AJ25: 1.102 | AK25: 1.067 | AL25: 1.074 | AM25: 1.124
A26: Sum | D26: =SUM(D17:D25) -> 184.597 | E26: =SUM(E17:E25) -> 183.357 | F26: =SUM(F17:F25) -> 183.189 | G26: =SUM(G17:G25) -> 187.083 | H26: =SUM(H17:H25) -> 193.446 | I26: =SUM(I17:I25) -> 198.399 | J26: =SUM(J17:J25) -> 204.714 | K26: =SUM(K17:K25) -> 205.314 | ... AM26: =SUM(AM17:AM25) -> 212.018
A28: Sum energi | B28: 1980 | C28: 1985 | D28: 1990 | E28: 1991 | F28: 1992 | G28: 1993 | H28: 1994 | I28: 1995 | J28: 1996 | K28: 1997 | L28: 1998 | M28: 1999 | N28: 2000 | O28: 2001 | P28: 2002 | Q28: 2003 | R28: 2004 | S28: 2005 | T28: 2006 | U28: 2007 | V28: 2008 | W28: 2009 | X28: 2010 | Y28: 2011 | Z28: 2012 | AA28: 2013 | AB28: 2014 | AC28: 2015 | AD28: 2016 | AE28: 2017 | AF28: 2018 | AG28: 2019 | AH28: 2020 | AI28: =AI16 -> 2021 | AJ28: 2022 | AK28: 2023 | AL28: =AK28+1 -> 2024 | AM28: =AL28+1 -> 2025
A29: Fossilt drivstoff | B29: 35 | C29: 40 | D29: =D17+D6 -> 48.751 | E29: =E17+E6 -> 47.759 | F29: =F17+F6 -> 48.816 | G29: =G17+G6 -> 50.333 | H29: =H17+H6 -> 50.788 | I29: =I17+I6 -> 53.583 | J29: =J17+J6 -> 56.663 | K29: =K17+K6 -> 57.853 | ... AE29: =AE17+AE6 -> 63.543 | AF29: 66.5 | AG29: =AG17+AG6 -> 63.804 | AH29: =AH17+AH6 -> 61.681 | AI29: =AI17+AI6 -> 63.653 | AJ29: =AJ17+AJ6 -> 64.847 | AK29: =AK17+AK6 -> 60.306 | AL29: =AL17+AL6 -> 57.308 | AM29: =AM17+AM6 -> 54.544 | AN29: Omfatter fossilt drivstoff til både transportmidler og maskiner.
A30: Fyringsolje | B30: 36 | C30: 21 | D30: =D18 -> 16.383 | E30: =E18 -> 15.03 | F30: =F18 -> 14.013 | G30: =G18 -> 13.977 | H30: =H18 -> 16.178 | I30: =I18 -> 15.503 | J30: =J18 -> 19.189 | K30: =K18 -> 15.943 | ... AM30: =AM18 -> 0.454
A31: Andre oljeprodukter | B31: 7 | C31: 14 | D31: =D7+D19 -> 10.69 | E31: =E7+E19 -> 9.975 | F31: =F7+F19 -> 11.354 | G31: =G7+G19 -> 11.674 | H31: =H7+H19 -> 11.586 | I31: =I7+I19 -> 9.761 | J31: =J7+J19 -> 11.088 | K31: =K7+K19 -> 11.689 | ... AM31: =AM7+AM19 -> 9.533
A32: Gass | B32: 28 | C32: 33 | D32: =D8+D20 -> 26.049 | E32: =E8+E20 -> 28.108 | F32: =F8+F20 -> 29.626 | G32: =G8+G20 -> 31.489 | H32: =H8+H20 -> 34.345 | I32: =I8+I20 -> 35.369 | J32: =J8+J20 -> 37.591 | K32: =K8+K20 -> 39.509 | ... AM32: =AM8+AM20 -> 45.629
A33: Kull og koks | B33: 12 | C33: 14 | D33: =D21 -> 9.228 | E33: =E21 -> 8.214 | F33: =F21 -> 8.299 | G33: =G21 -> 8.814 | H33: =H21 -> 9.943 | I33: =I21 -> 10.688 | J33: =J21 -> 10.756 | K33: =K21 -> 10.698 | ... AM33: =AM21 -> 7.701
A34: Strøm | B34: 83 | C34: 102 | D34: =D9+D13+D22 -> 105.488 | E34: =E9+E13+E22 -> 107.723 | F34: =F9+F13+F22 -> 108.217 | G34: =G9+G13+G22 -> 110.007 | H34: =H9+H13+H22 -> 112.642 | I34: =I9+I13+I22 -> 113.704 | J34: =J9+J13+J22 -> 112.533 | K34: =K9+K13+K22 -> 114.954 | ... AM34: =AM9+AM13+AM22 -> 138.971
A35: Bioenergi | B35: 7 | C35: 9 | D35: =D23 -> 9.135 | E35: =E23 -> 8.651 | F35: =F23 -> 8.282 | G35: =G23 -> 9.161 | H35: =H23 -> 9.756 | I35: =I23 -> 9.817 | J35: =J23 -> 10.224 | K35: =K23 -> 10.823 | ... AM35: =AM23 -> 16.085
A36: Fjernvarme | B36: 0 | C36: 0 | D36: =D14+D24 -> 1.413 | E36: =E14+E24 -> 1.545 | F36: =F14+F24 -> 1.55 | G36: =G14+G24 -> 1.609 | H36: =H14+H24 -> 1.574 | I36: =I14+I24 -> 1.657 | J36: =J14+J24 -> 1.744 | K36: =K14+K24 -> 1.8 | ... AM36: =AM14+AM24 -> 7.527
A37: Fossilt avfall | D37: =D25 -> 0.465 | E37: =E25 -> 0.391 | F37: =F25 -> 0.539 | G37: =G25 -> 0.493 | H37: =H25 -> 0.548 | I37: =I25 -> 0.604 | J37: =J25 -> 0.534 | K37: =K25 -> 0.718 | ... AM37: =AM25 -> 1.124
A38: Sum | B38: =SUM(B29:B37) -> 208 | C38: =SUM(C29:C37) -> 233 | D38: =SUM(D29:D37) -> 227.602 | E38: =SUM(E29:E37) -> 227.396 | F38: =SUM(F29:F37) -> 230.696 | G38: =SUM(G29:G37) -> 237.557 | H38: =SUM(H29:H37) -> 247.36 | I38: =SUM(I29:I37) -> 250.686 | ... AM38: =SUM(AM29:AM37) -> 281.568
A40: Fossil energi | B40: =B29+B30+B31+B32+B33 -> 118 | C40: =C29+C30+C31+C32+C33 -> 122 | D40: =D29+D30+D31+D32+D33 -> 111.101 | E40: =E29+E30+E31+E32+E33 -> 109.086 | F40: =F29+F30+F31+F32+F33 -> 112.108 | G40: =G29+G30+G31+G32+G33 -> 116.287 | H40: =H29+H30+H31+H32+H33 -> 122.84 | I40: =I29+I30+I31+I32+I33 -> 124.904 | ... AM40: =AM29+AM30+AM31+AM32+AM33 -> 117.861
A41: Strøm, bio og fjernvarme | B41: =B38-B40 -> 90 | C41: =C38-C40 -> 111 | D41: =D38-D40 -> 116.501 | E41: =E38-E40 -> 118.31 | F41: =F38-F40 -> 118.588 | G41: =G38-G40 -> 121.27 | H41: =H38-H40 -> 124.52 | I41: =I38-I40 -> 125.782 | ... AM41: =AM38-AM40 -> 163.707 | AN41: Strøm og fjervarme kan være produsert fra fossile energikilder
A42: Andel fossil energi | B42: =B40/B38 -> 0.56730769 | C42: =C40/C38 -> 0.52360515 | D42: =D40/D38 -> 0.48813719 | E42: =E40/E38 -> 0.4797182 | F42: =F40/F38 -> 0.48595554 | G42: =G40/G38 -> 0.48951199 | H42: =H40/H38 -> 0.49660414 | I42: =I40/I38 -> 0.49824881 | ... AM42: =AM40/AM38 -> 0.41858805
A44: Kommentar:
A45: Tall for 1980 og 1985 er usikre og bare egnet for å vise retning i energibruk. Tallene er hentet fra andre kilder enn energibalansen.
B47: 2015 | C47: 2016 | D47: 2017 | E47: 2018 | F47: 2019 | G47: 2020 | H47: 2021 | I47: 2022 | J47: 2023 | K47: 2024 | L47: 2025
...

Sheet Tot energibruk - sektor
A1: Kilde: | B1: https://www.ssb.no/statbank/table/11561/
A2: Alle energiprodukter | B2: Kilde: | D2: Energibalansen | M2: TWh
A4: Energibalansen | B4: 1980 | C4: 1985 | D4: 1990 | E4: 1991 | F4: 1992 | G4: 1993 | H4: 1994 | I4: 1995 | J4: 1996 | K4: 1997 | L4: 1998 | M4: 1999 | N4: 2000 | O4: 2001 | P4: 2002 | Q4: 2003 | R4: 2004 | S4: 2005 | T4: 2006 | U4: 2007 | V4: 2008 | W4: 2009 | X4: 2010 | Y4: 2011 | Z4: 2012 | AA4: 2013 | AB4: 2014 | AC4: 2015 | AD4: 2016 | AE4: 2017 | AF4: 2018 | AG4: 2019 | AH4: 2020 | AI4: 2021 | AJ4: 2022 | AK4: 2023 | AL4: =AK4+1 -> 2024 | AM4: =AL4+1 -> 2025
A5: 8.1 Olje- og-gassutvinning | B5: 20 | C5: 26 | D5: 26.708 | E5: 28.382 | F5: 30.204 | G5: 31.875 | H5: 34.729 | I5: 35.236 | J5: 38.368 | K5: 39.709 | L5: 38.485 | M5: 37.608 | N5: 43.117 | O5: 46.83 | P5: 48.409 | Q5: 51.796 | R5: 53.192 | S5: 53.64 | T5: 55.776 | U5: 56.149 | V5: 60.853 | W5: 59.101 | X5: 58.718 | Y5: 57.644 | Z5: 59.536 | AA5: 60.351 | AB5: 62.943 | AC5: 64.581 | AD5: 63.862 | AE5: 65.01 | AF5: 63.151 | AG5: 63.054 | AH5: 61.52 | AI5: 58.348 | AJ5: 57.376 | AK5: 56.858 | AL5: 53.012 | AM5: 52.372
A6: 8.3 Oljeraffinerier | B6: 5 | C6: 6 | D6: 7.542 | E6: 6.87 | F6: 8.458 | G6: 8.693 | H6: 8.624 | I6: 7.377 | J6: 8.463 | K6: 8.763 | L6: 8.899 | M6: 9.018 | N6: 8.697 | O6: 7.72 | P6: 7.946 | Q6: 8.766 | R6: 8.264 | S6: 9.022 | T6: 9.15 | U6: 8.977 | V6: 7.931 | W6: 8.633 | X6: 7.16 | Y6: 6.531 | Z6: 6.438 | AA6: 8.057 | AB6: 6.884 | AC6: 7.537 | AD6: 6.625 | AE6: 7.639 | AF6: 7.756 | AG6: 6.583 | AH6: 6.801 | AI6: 6.821 | AJ6: 5.749 | AK6: 6.858 | AL6: 6.772 | AM6: 6.446
A7: 8.4 og 8.5 Pumpekraft og egenbruk | B7: =Strøm!H7 -> 1.4 | C7: =Strøm!I7 -> 1.7 | D7: 1.331 | E7: 1.542 | F7: 1.496 | G7: 1.386 | H7: 2.221 | I7: 1.952 | J7: 1.001 | K7: 2.261 | L7: 1.502 | M7: 1.599 | N7: 1.349 | O7: 1.473 | P7: 1.249 | Q7: 1.324 | R7: 1.267 | S7: 1.687 | T7: 1.053 | U7: 2.071 | V7: 1.945 | W7: 1.757 | X7: 1.07 | Y7: 2.313 | Z7: 2.082 | AA7: 1.385 | AB7: 1.643 | AC7: 2.277 | AD7: 1.389 | AE7: 1.734 | AF7: 1.752 | AG7: 1.829 | AH7: 1.63 | AI7: 1.268 | AJ7: 2.226 | AK7: 2.443 | AL7: 2.229 | AM7: 2.066
A8: 9 Svinn | B8: 7.1 | C8: 9 | D8: 8.415 | E8: 8.235 | F8: 8.381 | G8: 9.61 | H8: 9.499 | I8: 8.687 | J8: 8.918 | K8: 9.205 | L8: 9.764 | M8: 9.512 | N8: 12.149 | O8: 11.905 | P8: 11.162 | Q8: 9.726 | R8: 11.214 | S8: 11.608 | T8: 11.792 | U8: 11.885 | V8: 11.419 | W8: 10.51 | X8: 11.496 | Y8: 8.918 | Z8: 10.638 | AA8: 9.335 | AB8: 8.838 | AC8: 8.906 | AD8: 9.189 | AE8: 9.036 | AF8: 9.063 | AG8: 8.483 | AH8: 8.513 | AI8: 9.219 | AJ8: 8.914 | AK8: 9.414 | AL8: 9.186 | AM8: 8.857
A9: 12.1 Industri og bergverk | B9: 67 | C9: 69 | D9: 71.109 | E9: 69.535 | F9: 68.327 | G9: 69.432 | H9: 74.437 | I9: 75.862 | J9: 74.003 | K9: 75.531 | L9: 79.107 | M9: 78.519 | N9: 79.835 | O9: 77.211 | P9: 72.611 | Q9: 74.46 | R9: 78.596 | S9: 77.195 | T9: 75.622 | U9: 74.62 | V9: 75.82 | W9: 62.335 | X9: 69.88 | Y9: 69.555 | Z9: 66.804 | AA9: 66.614 | AB9: 65.806 | AC9: 66.877 | AD9: 66.945 | AE9: 67.684 | AF9: 68.582 | AG9: 68.908 | AH9: 69.586 | AI9: 73.874 | AJ9: 71.499 | AK9: 67.736 | AL9: 68.036 | AM9: 69.312
A10: 12.1.12 Bygg og anlegg | B10: 2.2 | C10: 2.4 | D10: 2.357 | E10: 2.398 | F10: 2.301 | G10: 2.636 | H10: 2.6 | I10: 2.897 | J10: 3.621 | K10: 3.483 | L10: 3.416 | M10: 3.486 | N10: 3.103 | O10: 3.483 | P10: 3.505 | Q10: 3.343 | R10: 3.232 | S10: 3.235 | T10: 3.477 | U10: 3.968 | V10: 4.145 | W10: 3.983 | X10: 4.016 | Y10: 3.918 | Z10: 4.572 | AA10: 5.102 | AB10: 4.712 | AC10: 4.722 | AD10: 4.662 | AE10: 5.036 | AF10: 5.323 | AG10: 4.752 | AH10: 4.384 | AI10: 4.837 | AJ10: 4.559 | AK10: 4.334 | AL10: 4.396 | AM10: 4.059
A11: 12.2 Transport | B11: 31 | C11: 37 | D11: 39.629 | E11: 38.664 | F11: 39.493 | G11: 40.636 | H11: 40.484 | I11: 43.184 | J11: 45.182 | K11: 46.159 | L11: 47.367 | M11: 49.887 | N11: 46.895 | O11: 48.227 | P11: 47.878 | Q11: 49.927 | R11: 50.771 | S11: 51.012 | T11: 52.989 | U11: 54.405 | V11: 54.159 | W11: 53.469 | X11: 55.741 | Y11: 55.884 | Z11: 56.65 | AA11: 56.805 | AB11: 58.139 | AC11: 57.671 | AD11: 57.904 | AE11: 57.356 | AF11: 56.868 | AG11: 56.324 | AH11: 53.035 | AI11: 54.816 | AJ11: 57.11 | AK11: 54.255 | AL11: 52.504 | AM11: 50.313
A12: 12.3.1 Jordbruk og skogbruk | B12: 2.5 | C12: 2.6 | D12: 2.681 | E12: 2.597 | F12: 2.525 | G12: 3.312 | H12: 3.201 | I12: 2.944 | J12: 2.946 | K12: 2.656 | L12: 3.512 | M12: 3.462 | N12: 3.395 | O12: 3.723 | P12: 3.457 | Q12: 3.355 | R12: 3.513 | S12: 3.676 | T12: 3.615 | U12: 3.656 | V12: 3.63 | W12: 3.621 | X12: 3.963 | Y12: 3.617 | Z12: 3.695 | AA12: 3.71 | AB12: 3.462 | AC12: 3.472 | AD12: 3.655 | AE12: 3.687 | AF12: 3.774 | AG12: 3.804 | AH12: 3.932 | AI12: 4.117 | AJ12: 3.789 | AK12: 3.951 | AL12: 3.957 | AM12: 3.904
A13: 12.3.2 Fiske | B13: 2.5 | C13: 2.8 | D13: 2.887 | E13: 2.801 | F13: 2.977 | G13: 3.153 | H13: 3.234 | I13: 2.89 | J13: 3.338 | K13: 3.474 | L13: 3.876 | M13: 4.248 | N13: 4.12 | O13: 4.191 | P13: 4.166 | Q13: 3.417 | R13: 3.331 | S13: 2.988 | T13: 3.059 | U13: 3.029 | V13: 2.973 | W13: 3.277 | X13: 2.739 | Y13: 2.472 | Z13: 2.548 | AA13: 2.325 | AB13: 2.493 | AC13: 2.546 | AD13: 2.663 | AE13: 2.975 | AF13: 3.204 | AG13: 3.117 | AH13: 3.406 | AI13: 3.62 | AJ13: 3.451 | AK13: 4.244 | AL13: 3.896 | AM13: 4.062
A14: 12.3.3 Privat og offentlig tjenesteyting, inkl. forsvar | B14: 21 | C14: 23 | D14: 25.951 | E14: 26.014 | F14: 26.557 | G14: 26.122 | H14: 26.111 | I14: 26.458 | J14: 29.388 | K14: 29.66 | L14: 29.735 | M14: 29.544 | N14: 26.39 | O14: 30.181 | P14: 30.987 | Q14: 28.55 | R14: 29.551 | S14: 28.578 | T14: 27.825 | U14: 30.003 | V14: 29.825 | W14: 32.888 | X14: 35.151 | Y14: 32.836 | Z14: 33.641 | AA14: 34.691 | AB14: 32.785 | AC14: 33.049 | AD14: 34.807 | AE14: 34.415 | AF14: 35.717 | AG14: 35.214 | AH14: 33.392 | AI14: 35.639 | AJ14: 33.999 | AK14: 34.786 | AL14: 34.84 | AM14: 35.047
A15: 12.3.4 Private husholdninger | B15: 36 | C15: 39 | D15: 39.982 | E15: 41.348 | F15: 41.008 | G15: 41.791 | H15: 43.377 | I15: 44.161 | J15: 46.236 | K15: 44.349 | L15: 44.551 | M15: 44.987 | N15: 43.562 | O15: 45.218 | P15: 45.15 | Q15: 43.361 | R15: 42.957 | S15: 43.656 | T15: 44.028 | U15: 44.631 | V15: 44.281 | W15: 45.844 | X15: 50.855 | Y15: 45.168 | Z15: 47.908 | AA15: 47.171 | AB15: 43.867 | AC15: 45.808 | AD15: 47.137 | AE15: 47.69 | AF15: 47.638 | AG15: 46.487 | AH15: 46.655 | AI15: 49.089 | AJ15: 44.199 | AK15: 46.566 | AL15: 46.586 | AM15: 45.323
A17: Sum | B17: =SUM(B5:B16) -> 195.7 | C17: =SUM(C5:C16) -> 218.5 | D17: =SUM(D5:D16) -> 228.592 | E17: =SUM(E5:E16) -> 228.386 | F17: =SUM(F5:F16) -> 231.727 | G17: =SUM(G5:G16) -> 238.646 | H17: =SUM(H5:H16) -> 248.517 | I17: =SUM(I5:I16) -> 251.648 | ... AM17: =SUM(AM5:AM16) -> 281.761
A19: Fastlands-Norge uten sokkelen | B19: =B17-B5 -> 175.7 | C19: =C17-C5 -> 192.5 | D19: =D17-D5 -> 201.884 | E19: =E17-E5 -> 200.004 | F19: =F17-F5 -> 201.523 | G19: =G17-G5 -> 206.771 | H19: =H17-H5 -> 213.788 | I19: =I17-I5 -> 216.412 | ... AM19: =AM17-AM5 -> 229.389
A20: Netto innenlands energibruk | B20: =B9+B11+B12+B13+B14+B15+B10 -> 162.2 | C20: =C9+C11+C12+C13+C14+C15+C10 -> 175.8 | D20: =D9+D11+D12+D13+D14+D15+D10 -> 184.596 | E20: =E9+E11+E12+E13+E14+E15+E10 -> 183.357 | F20: =F9+F11+F12+F13+F14+F15+F10 -> 183.188 | G20: =G9+G11+G12+G13+G14+G15+G10 -> 187.082 | H20: =H9+H11+H12+H13+H14+H15+H10 -> 193.444 | I20: =I9+I11+I12+I13+I14+I15+I10 -> 198.396 | ... AM20: =AM9+AM11+AM12+AM13+AM14+AM15+AM10 -> 212.02
A21: Bygg (husholdninger og tjenesteyting) | B21: =B14+B15 -> 57 | C21: =C14+C15 -> 62 | D21: =D14+D15 -> 65.933 | E21: =E14+E15 -> 67.362 | F21: =F14+F15 -> 67.565 | G21: =G14+G15 -> 67.913 | H21: =H14+H15 -> 69.488 | I21: =I14+I15 -> 70.619 | ... AM21: =AM14+AM15 -> 80.37
A23: Kommentar:
A24: Tall for 1980 og 1985 er usikre og bare egnet for å vise retning i energibruk. Tallene er hentet fra andre kilder enn energibalansen.
B26: 2015 | C26: 2016 | D26: 2017 | E26: 2018 | F26: 2019 | G26: 2020 | H26: 2021 | I26: 2022 | J26: 2023 | K26: 2024 | L26: 2025
A27: Petroleumssektoren | B27: 64.581 | C27: 63.862 | D27: 65.01 | E27: 63.151 | F27: 63.054 | G27: 61.52 | H27: 58.348 | I27: 57.376 | J27: 56.858 | K27: 53.012 | L27: 52.372
A28: Oljeraffineri | B28: 7.537 | C28: 6.625 | D28: 7.639 | E28: 7.756 | F28: 6.583 | G28: 6.801 | H28: 6.821 | I28: 5.749 | J28: 6.858 | K28: 6.772 | L28: 6.446
A29: Industri | B29: 66.877 | C29: 66.945 | D29: 67.684 | E29: 68.582 | F29: 68.908 | G29: 69.586 | H29: 73.874 | I29: 71.499 | J29: 67.736 | K29: 68.036 | L29: 69.312
A30: Transport | B30: 57.671 | C30: 57.904 | D30: 57.356 | E30: 56.868 | F30: 56.324 | G30: 53.035 | H30: 54.816 | I30: 57.11 | J30: 54.255 | K30: 52.504 | L30: 50.313
A31: Husholdninger | B31: 45.808 | C31: 47.137 | D31: 47.69 | E31: 47.638 | F31: 46.487 | G31: 46.655 | H31: 49.089 | I31: 44.199 | J31: 46.566 | K31: 46.586 | L31: 45.323
A32: Tjenesteyting | B32: 33.049 | C32: 34.807 | D32: 34.415 | E32: 35.717 | F32: 35.214 | G32: 32 | H32: 34 | I32: 32 | J32: 32.8 | K32: 32.8 | L32: 32
A33: Datasentre | B33: 0 | C33: 0 | D33: 0 | E33: 0 | F33: 0 | G33: 1 | H33: 2 | I33: 2 | J33: 2 | K33: 2 | L33: 3
A34: Andre næringer | B34: 10.74 | C34: 10.98 | D34: 11.698 | E34: 12.301 | F34: 11.673 | G34: 11.722 | H34: 12.574 | I34: 11.799 | J34: 12.529 | K34: 12.249 | L34: 12.025
A35: Overføringstap | B35: 11.183 | C35: 10.578 | D35: 10.77 | E35: 10.815 | F35: 10.312 | G35: 10.143 | H35: 10.487 | I35: 11.14 | J35: 11.857 | K35: 11.415 | L35: 10.923
A36: Sum | B36: =SUM(B27:B35) -> 297.446 | C36: =SUM(C27:C35) -> 298.838 | D36: =SUM(D27:D35) -> 302.262 | E36: =SUM(E27:E35) -> 302.828 | F36: =SUM(F27:F35) -> 298.555 | G36: =SUM(G27:G35) -> 292.462 | H36: =SUM(H27:H35) -> 302.009 | I36: =SUM(I27:I35) -> 292.872 | ... L36: =SUM(L27:L35) -> 281.714
A37: Hvorav innlands sluttbruk av energi | B37: =B29+B30+B31+B32+B33 -> 203.405 | C37: =C29+C30+C31+C32+C33 -> 206.793 | D37: =D29+D30+D31+D32+D33 -> 207.145 | E37: =E29+E30+E31+E32+E33 -> 208.805 | F37: =F29+F30+F31+F32+F33 -> 206.933 | G37: =G29+G30+G31+G32+G33 -> 202.276 | H37: =H29+H30+H31+H32+H33 -> 213.779 | I37: =I29+I30+I31+I32+I33 -> 206.808 | ... L37: =L29+L30+L31+L32+L33 -> 199.948

Sheet Datasentre
B1: Kilde: | C1: Energibruk i datasenter - NVE
B3: Strømforbruk datasentre
C4: TWh
B5: 2015 | C5: 0.1
B6: 2016 | C6: 0.2
B7: 2017 | C7: 0.2
B8: 2018 | C8: 0.4
B9: 2019 | C9: 0.7
B10: 2020 | C10: 0.4
B11: 2021 | C11: 1.1
B12: 2022 | C12: 1.3
B13: 2023 | C13: 1.6
B14: 2024 | C14: 2.2
B15: 2025 | C15: 3.3
B25: Reservert volum datasentre | E25: Kilde: | F25: Statistikk om tilknytningssaker | Statnett
C27: MW
B28: 2020 | C28: 169
B29: 2021 | C29: 428
B30: 2022 | C30: 548
B31: 2023 | C31: 867
B32: 2024 | C32: 1603
B33: 2025 | C33: 2650
B34: 2026 | C34: 4217

Sheet Industri
A1: 11561: Energibalansen. Tilgang og forbruk, etter energibalanseposter, energiprodukt, statistikkvariabel og år
A2: https://www.ssb.no/statbank/table/11561/
A3: 12.1 Industri og bergverk | B3: Energibalansen | E3: TWh | I3: Bygg og anlegg er egen kategori og er ikke med i disse tallene. Energivarer brukt som råstoff i industrien er heller ikke med i disse tallene.
A4: Energibruk etter vare
B5: 1990 | C5: 1991 | D5: 1992 | E5: 1993 | F5: 1994 | G5: 1995 | H5: 1996 | I5: 1997 | J5: 1998 | K5: 1999 | L5: 2000 | M5: 2001 | N5: 2002 | O5: 2003 | P5: 2004 | Q5: 2005 | R5: 2006 | S5: 2007 | T5: 2008 | U5: 2009 | V5: 2010 | W5: 2011 | X5: 2012 | Y5: 2013 | Z5: 2014 | AA5: 2015 | AB5: 2016 | AC5: 2017 | AD5: 2018 | AE5: 2019 | AF5: 2020 | AG5: 2021 | AH5: 2022 | AI5: 2023 | AJ5: =AI5+1 -> 2024 | AK5: =AJ5+1 -> 2025
A6: Fossilt drivstoff | B6: 0.741 | C6: 0.622 | D6: 0.89 | E6: 0.548 | F6: 0.605 | G6: 0.658 | H6: 0.509 | I6: 0.472 | J6: 0.686 | K6: 0.71 | L6: 0.739 | M6: 0.84 | N6: 0.804 | O6: 0.947 | P6: 1.13 | Q6: 1.145 | R6: 1.099 | S6: 1.143 | T6: 1.131 | U6: 0.888 | V6: 1.346 | W6: 1.373 | X6: 1.157 | Y6: 1.25 | Z6: 1.098 | AA6: 1.202 | AB6: 1.294 | AC6: 0.992 | AD6: 1.163 | AE6: 1.197 | AF6: 1.245 | AG6: 1.288 | AH6: 1.331 | AI6: 1.001 | AJ6: 0.936 | AK6: 1.011
A7: Fyringsolje | B7: 7.158 | C7: 6.514 | D7: 5.984 | E7: 6.083 | F7: 8.05 | G7: 7.109 | H7: 8.558 | I7: 7.149 | J7: 7.001 | K7: 6.371 | L7: 5.048 | M7: 5.456 | N7: 4.935 | O7: 5.426 | P7: 4.533 | Q7: 3.988 | R7: 4.285 | S7: 3.514 | T7: 3.143 | U7: 2.771 | V7: 3.034 | W7: 2.544 | X7: 1.717 | Y7: 1.439 | Z7: 1.077 | AA7: 1.024 | AB7: 0.952 | AC7: 0.882 | AD7: 0.685 | AE7: 0.601 | AF7: 0.535 | AG7: 0.607 | AH7: 0.793 | AI7: 0.692 | AJ7: 0.408 | AK7: 0.342
A8: Andre oljeprodukter | B8: 3.659 | C8: 3.599 | D8: 3.401 | E8: 3.639 | F8: 3.714 | G8: 2.884 | H8: 3.136 | I8: 3.423 | J8: 3.422 | K8: 3.316 | L8: 3.279 | M8: 3.577 | N8: 3.568 | O8: 3.621 | P8: 3.421 | Q8: 3.313 | R8: 4.271 | S8: 3.539 | T8: 3.603 | U8: 3.203 | V8: 3.608 | W8: 3.637 | X8: 3.354 | Y8: 3.708 | Z8: 3.804 | AA8: 3.842 | AB8: 3.239 | AC8: 3.615 | AD8: 3.651 | AE8: 3.73 | AF8: 3.76 | AG8: 3.779 | AH8: 2.929 | AI8: 3.767 | AJ8: 3.697 | AK8: 3.706
A9: Gass | B9: 0.892 | C9: 1.562 | D9: 1.236 | E9: 1.414 | F9: 1.772 | G9: 2.347 | H9: 2.195 | I9: 3.232 | J9: 3.179 | K9: 3.281 | L9: 3.861 | M9: 3.856 | N9: 3.317 | O9: 3.887 | P9: 4.353 | Q9: 3.993 | R9: 4.312 | S9: 4.119 | T9: 4.573 | U9: 4.504 | V9: 4.609 | W9: 4.628 | X9: 4.973 | Y9: 4.71 | Z9: 4.515 | AA9: 5.03 | AB9: 4.854 | AC9: 5.231 | AD9: 5.522 | AE9: 5.547 | AF9: 5.356 | AG9: 5.869 | AH9: 5.782 | AI9: 5.271 | AJ9: 4.817 | AK9: 5.397
A10: Kull og koks | B10: 9.12 | C10: 8.111 | D10: 8.222 | E10: 8.749 | F10: 9.883 | G10: 10.638 | H10: 10.717 | I10: 10.654 | J10: 11.267 | K10: 10.846 | L10: 11.135 | M10: 9.773 | N10: 8.344 | O10: 8.266 | P10: 9.543 | Q10: 8.025 | R10: 7.03 | S10: 7.609 | T10: 7.83 | U10: 5.656 | V10: 7.108 | W10: 7.298 | X10: 7.599 | Y10: 7.594 | Z10: 7.65 | AA10: 7.416 | AB10: 7.786 | AC10: 7.908 | AD10: 7.612 | AE10: 7.582 | AF10: 7.718 | AG10: 8.366 | AH10: 7.971 | AI10: 7.289 | AJ10: 7.482 | AK10: 7.7
A11: Fossilt avfall | B11: 0.449 | C11: 0.384 | D11: 0.52 | E11: 0.489 | F11: 0.544 | G11: 0.6 | H11: 0.531 | I11: 0.711 | J11: 0.833 | K11: 0.651 | L11: 0.771 | M11: 0.768 | N11: 0.772 | O11: 0.965 | P11: 0.842 | Q11: 1.041 | R11: 1.102 | S11: 0.979 | T11: 1.084 | U11: 1.047 | V11: 0.716 | W11: 0.837 | X11: 0.802 | Y11: 0.913 | Z11: 0.965 | AA11: 0.971 | AB11: 0.905 | AC11: 0.877 | AD11: 0.968 | AE11: 0.981 | AF11: 0.992 | AG11: 0.968 | AH11: 1.009 | AI11: 0.937 | AJ11: 0.88 | AK11: 0.93
A12: Strøm | B12: 44.996 | C12: 44.587 | D12: 44.2 | E12: 44.426 | F12: 45.465 | G12: 46.989 | H12: 43.753 | I12: 44.969 | J12: 48.5 | K12: 48.704 | L12: 50.781 | M12: 48.409 | N12: 46.503 | O12: 46.88 | P12: 50.463 | Q12: 51.056 | R12: 48.958 | S12: 48.897 | T12: 49.617 | U12: 40.214 | V12: 43.374 | W12: 43.084 | X12: 42.252 | Y12: 42.065 | Z12: 43.191 | AA12: 43.719 | AB12: 44.662 | AC12: 44.671 | AD12: 45.234 | AE12: 44.82 | AF12: 45.365 | AG12: 47.452 | AH12: 46.287 | AI12: 43.828 | AJ12: 44.669 | AK12: 45.357
A13: Bioenergi | B13: 3.907 | C13: 3.942 | D13: 3.651 | E13: 3.846 | F13: 4.054 | G13: 4.242 | H13: 4.285 | I13: 4.654 | J13: 3.976 | K13: 4.406 | L13: 3.991 | M13: 4.319 | N13: 4.09 | O13: 4.166 | P13: 4.019 | Q13: 4.327 | R13: 4.261 | S13: 4.512 | T13: 4.532 | U13: 3.709 | V13: 5.531 | W13: 5.6 | X13: 4.404 | Y13: 4.385 | Z13: 2.923 | AA13: 3.082 | AB13: 2.705 | AC13: 2.98 | AD13: 3.278 | AE13: 4.019 | AF13: 4.139 | AG13: 4.861 | AH13: 4.756 | AI13: 4.431 | AJ13: 4.549 | AK13: 4.222
A14: Fjernvarme | B14: 0.188 | C14: 0.215 | D14: 0.221 | E14: 0.237 | F14: 0.35 | G14: 0.397 | H14: 0.319 | I14: 0.265 | J14: 0.243 | K14: 0.234 | L14: 0.228 | M14: 0.212 | N14: 0.288 | O14: 0.304 | P14: 0.295 | Q14: 0.312 | R14: 0.307 | S14: 0.311 | T14: 0.318 | U14: 0.355 | V14: 0.558 | W14: 0.564 | X14: 0.555 | Y14: 0.559 | Z14: 0.588 | AA14: 0.602 | AB14: 0.555 | AC14: 0.532 | AD14: 0.472 | AE14: 0.453 | AF14: 0.479 | AG14: 0.688 | AH14: 0.647 | AI14: 0.521 | AJ14: 0.601 | AK14: 0.648
A15: Sum | B15: =SUM(B6:B14) -> 71.11 | C15: =SUM(C6:C14) -> 69.536 | D15: =SUM(D6:D14) -> 68.325 | E15: =SUM(E6:E14) -> 69.431 | F15: =SUM(F6:F14) -> 74.437 | G15: =SUM(G6:G14) -> 75.864 | H15: =SUM(H6:H14) -> 74.003 | I15: =SUM(I6:I14) -> 75.529 | ... AK15: =SUM(AK6:AK14) -> 69.313
A18: Energibruk etter næring
B19: 1990 | C19: 1991 | D19: 1992 | E19: 1993 | F19: 1994 | G19: 1995 | H19: 1996 | I19: 1997 | J19: 1998 | K19: 1999 | L19: 2000 | M19: 2001 | N19: 2002 | O19: 2003 | P19: 2004 | Q19: 2005 | R19: 2006 | S19: 2007 | T19: 2008 | U19: 2009 | V19: 2010 | W19: 2011 | X19: 2012 | Y19: 2013 | Z19: 2014 | AA19: 2015 | AB19: 2016 | AC19: 2017 | AD19: 2018 | AE19: 2019 | AF19: 2020 | AG19: 2021 | AH19: 2022 | AI19: 2023 | AJ19: =AI19+1 -> 2024 | AK19: =AJ19+1 -> 2025
A20: Aluminium m.m. | B20: 18.069 | C20: 18.333 | D20: 17.483 | E20: 17.86 | F20: 18.238 | G20: 18.399 | H20: 17.041 | I20: 18.338 | J20: 20.032 | K20: 20.132 | L20: 20.575 | M20: 20.463 | N20: 19.641 | O20: 21.537 | P20: 23.225 | Q20: 24.64 | R20: 24.548 | S20: 23.831 | T20: 23.923 | U20: 19.968 | V20: 20.024 | W20: 19.656 | X20: 19.749 | Y20: 19.895 | Z20: 20.36 | AA20: 21.002 | AB20: 21.434 | AC20: 21.528 | AD20: 22.392 | AE20: 22.529 | AF20: 22.791 | AG20: 24.082 | AH20: 23.756 | AI20: 22.211 | AJ20: 23.386 | AK20: 24.068
A21: Jern, stål og ferro | B21: 14.775 | C21: 13.228 | D21: 13.145 | E21: 11.374 | F21: 13.056 | G21: 14.133 | H21: 13.796 | I21: 13.461 | J21: 15.078 | K21: 14.855 | L21: 15.293 | M21: 13.468 | N21: 11.93 | O21: 11.103 | P21: 13.123 | Q21: 10.741 | R21: 8.739 | S21: 9.017 | T21: 9.396 | U21: 6.657 | V21: 8.265 | W21: 8.917 | X21: 8.869 | Y21: 9.009 | Z21: 9.344 | AA21: 9.019 | AB21: 9.405 | AC21: 9.845 | AD21: 9.561 | AE21: 9.456 | AF21: 9.416 | AG21: 9.744 | AH21: 9.596 | AI21: 8.962 | AJ21: 8.938 | AK21: 8.386
A22: Kjemisk industri | B22: 12.174 | C22: 12.235 | D22: 11.216 | E22: 13.277 | F22: 13.63 | G22: 13.347 | H22: 13.274 | I22: 14.781 | J22: 15.445 | K22: 15.126 | L22: 16.009 | M22: 15.788 | N22: 14.135 | O22: 15.106 | P22: 15.573 | Q22: 15.425 | R22: 15.793 | S22: 15.623 | T22: 16.466 | U22: 14.337 | V22: 16.707 | W22: 16.607 | X22: 16.122 | Y22: 16.436 | Z22: 17.169 | AA22: 17.838 | AB22: 16.721 | AC22: 16.461 | AD22: 16.846 | AE22: 17.111 | AF22: 18.114 | AG22: 19.278 | AH22: 17.811 | AI22: 16.98 | AJ22: 15.983 | AK22: 17.565
A23: Mineralsk industri | B23: 3.294 | C23: 3.131 | D23: 3.591 | E23: 3.868 | F23: 4.17 | G23: 4.322 | H23: 4.391 | I23: 4.31 | J23: 4.138 | K23: 3.787 | L23: 3.826 | M23: 3.638 | N23: 3.65 | O23: 3.94 | P23: 3.701 | Q23: 3.76 | R23: 4.087 | S23: 4.229 | T23: 4.576 | U23: 3.8 | V23: 3.878 | W23: 4.214 | X23: 4.114 | Y23: 4.224 | Z23: 3.815 | AA23: 3.917 | AB23: 3.997 | AC23: 4.17 | AD23: 4.315 | AE23: 4.138 | AF23: 3.879 | AG23: 4.046 | AH23: 3.991 | AI23: 3.594 | AJ23: 3.583 | AK23: 3.68
A24: Treindustri | B24: 12.987 | C24: 12.719 | D24: 11.914 | E24: 13.192 | F24: 14.079 | G24: 14.68 | H24: 14.946 | I24: 14.33 | J24: 13.416 | K24: 13.949 | L24: 13.73 | M24: 13.736 | N24: 13.278 | O24: 13.13 | P24: 13.311 | Q24: 13.212 | R24: 12.759 | S24: 12.549 | T24: 12.072 | U24: 9.877 | V24: 11.736 | W24: 11.192 | X24: 9.217 | Y24: 8.139 | Z24: 6.414 | AA24: 6.463 | AB24: 6.793 | AC24: 7.073 | AD24: 7.196 | AE24: 7.23 | AF24: 6.895 | AG24: 7.52 | AH24: 7.261 | AI24: 6.727 | AJ24: 6.859 | AK24: 6.567
A25: Næringsdmidddelindustri | B25: 4.423 | C25: 4.452 | D25: 5.406 | E25: 5.154 | F25: 5.085 | G25: 4.959 | H25: 4.769 | I25: 4.723 | J25: 5.262 | K25: 5.234 | L25: 4.99 | M25: 4.743 | N25: 4.626 | O25: 4.629 | P25: 4.675 | Q25: 4.318 | R25: 4.406 | S25: 4.304 | T25: 4.465 | U25: 3.913 | V25: 4.667 | W25: 4.441 | X25: 4.252 | Y25: 4.288 | Z25: 4.231 | AA25: 4.397 | AB25: 4.571 | AC25: 4.874 | AD25: 4.429 | AE25: 4.421 | AF25: 4.571 | AG25: 4.817 | AH25: 4.751 | AI25: 5.098 | AJ25: 4.753 | AK25: 4.694
A26: Verfts- og verkstedind. | B26: 2.721 | C26: 2.693 | D26: 2.997 | E26: 2.249 | F26: 3.324 | G26: 3.422 | H26: 3.149 | I26: 3.238 | J26: 3.16 | K26: 3.108 | L26: 2.971 | M26: 2.869 | N26: 3.047 | O26: 2.608 | P26: 2.545 | Q26: 2.666 | R26: 2.826 | S26: 2.596 | T26: 2.491 | U26: 1.838 | V26: 2.256 | W26: 2.061 | X26: 2.074 | Y26: 2.164 | Z26: 2.204 | AA26: 2.001 | AB26: 1.914 | AC26: 1.723 | AD26: 1.656 | AE26: 1.839 | AF26: 1.867 | AG26: 2.17 | AH26: 2.022 | AI26: 2.216 | AJ26: 2.437 | AK26: 2.339
A27: Annen industri | B27: 1.34 | C27: 1.402 | D27: 1.336 | E27: 1.203 | F27: 1.536 | G27: 1.511 | H27: 1.571 | I27: 1.478 | J27: 1.615 | K27: 1.496 | L27: 1.535 | M27: 1.486 | N27: 1.315 | O27: 1.355 | P27: 1.287 | Q27: 1.332 | R27: 1.333 | S27: 1.314 | T27: 1.201 | U27: 0.919 | V27: 1.04 | W27: 0.984 | X27: 1.019 | Y27: 0.97 | Z27: 0.892 | AA27: 0.849 | AB27: 0.834 | AC27: 0.945 | AD27: 0.929 | AE27: 0.946 | AF27: 0.845 | AG27: 0.896 | AH27: 0.829 | AI27: 0.739 | AJ27: 1.04 | AK27: 0.848
A28: Bergverk | B28: 1.326 | C28: 1.341 | D28: 1.239 | E28: 1.255 | F28: 1.319 | G28: 1.089 | H28: 1.065 | I28: 0.872 | J28: 0.961 | K28: 0.831 | L28: 0.906 | M28: 1.019 | N28: 0.989 | O28: 1.051 | P28: 1.156 | Q28: 1.099 | R28: 1.13 | S28: 1.157 | T28: 1.232 | U28: 1.024 | V28: 1.309 | W28: 1.484 | X28: 1.387 | Y28: 1.49 | Z28: 1.376 | AA28: 1.392 | AB28: 1.276 | AC28: 1.066 | AD28: 1.259 | AE28: 1.237 | AF28: 1.208 | AG28: 1.321 | AH28: 1.481 | AI28: 1.208 | AJ28: 1.057 | AK28: 1.166
A29: Sum | B29: =SUM(B20:B28) -> 71.109 | C29: =SUM(C20:C28) -> 69.534 | D29: =SUM(D20:D28) -> 68.327 | E29: =SUM(E20:E28) -> 69.432 | F29: =SUM(F20:F28) -> 74.437 | G29: =SUM(G20:G28) -> 75.862 | H29: =SUM(H20:H28) -> 74.002 | I29: =SUM(I20:I28) -> 75.531 | ... AK29: =SUM(AK20:AK28) -> 69.313
C34: 2015 | D34: 2016 | E34: 2017 | F34: 2018 | G34: 2019 | H34: 2020 | I34: 2021 | J34: 2022 | K34: 2023 | L34: 2024 | M34: 2025
B35: Metallindustrien | C35: 30.021 | D35: 30.839 | E35: 31.373 | F35: 31.953 | G35: 31.985 | H35: 32.207 | I35: 33.826 | J35: 33.352 | K35: 31.173 | L35: 32.324 | M35: 32.454
B36: Kjemisk industri og raffineri | C36: 25.375 | D36: 23.346 | E36: 24.1 | F36: 24.602 | G36: 23.694 | H36: 24.915 | I36: 26.099 | J36: 23.56 | K36: 23.838 | L36: 22.755 | M36: 24.011
B37: Treforedling | C37: 4.62 | D37: 5.011 | E37: 5.355 | F37: 5.334 | G37: 5.267 | H37: 4.953 | I37: 5.479 | J37: 5.265 | K37: 4.295 | L37: 4.658 | M37: 4.414
B38: Trelast | C38: 1.843 | D38: 1.782 | E38: 1.718 | F38: 1.862 | G38: 1.963 | H38: 1.942 | I38: 2.041 | J38: 1.996 | K38: 2.432 | L38: 2.201 | M38: 2.153
B39: Mineralsk industri | C39: 3.917 | D39: 3.997 | E39: 4.17 | F39: 4.315 | G39: 4.138 | H39: 3.879 | I39: 4.046 | J39: 3.991 | K39: 3.594 | L39: 3.583 | M39: 3.68
B40: Næringsmiddel | C40: 4.397 | D40: 4.571 | E40: 4.874 | F40: 4.429 | G40: 4.421 | H40: 4.571 | I40: 4.817 | J40: 4.751 | K40: 5.098 | L40: 4.753 | M40: 4.694
B41: Verfts- og verkstedindustri | C41: 2.001 | D41: 1.914 | E41: 1.723 | F41: 1.656 | G41: 1.839 | H41: 1.867 | I41: 2.17 | J41: 2.022 | K41: 2.216 | L41: 2.437 | M41: 2.339
B42: Annen industri | C42: 0.849 | D42: 0.834 | E42: 0.945 | F42: 0.929 | G42: 0.946 | H42: 0.845 | I42: 0.896 | J42: 0.829 | K42: 0.739 | L42: 1.04 | M42: 0.848

Sheet Strøm
B2: Kilde: Energibalansen og elstat SSB | G2: Elektrisitet. Statistikkbanken (ssb.no) | O2: TWh | AR2: Elektrisitet – SSB | AT2: Energibruk - NVE
B4: 1950 | C4: 1955 | D4: 1960 | E4: 1965 | F4: 1970 | G4: 1975 | H4: 1980 | I4: 1985 | J4: 1990 | K4: 1991 | L4: 1992 | M4: 1993 | N4: 1994 | O4: 1995 | P4: 1996 | Q4: 1997 | R4: 1998 | S4: 1999 | T4: 2000 | U4: 2001 | V4: 2002 | W4: 2003 | X4: 2004 | Y4: 2005 | Z4: 2006 | AA4: 2007 | AB4: 2008 | AC4: 2009 | AD4: 2010 | AE4: 2011 | AF4: 2012 | AG4: 2013 | AH4: 2014 | AI4: 2015 | AJ4: 2016 | AK4: 2017 | AL4: 2018 | AM4: 2019 | AN4: 2020 | AO4: 2021 | AP4: 2022 | AQ4: 2023 | AR4: =AQ4+1 -> 2024 | AS4: =AR4+1 -> 2025
A5: 8.1 Olje- og-gassutvinning | J5: 0.095 | K5: 0.105 | L5: 0.14 | M5: 0.189 | N5: 0.28 | O5: 0.295 | P5: 0.601 | Q5: 0.927 | R5: 0.98 | S5: 1.232 | T5: 1.238 | U5: 1.209 | V5: 1.238 | W5: 1.439 | X5: 1.574 | Y5: 2.2 | Z5: 2.641 | AA5: 2.925 | AB5: 3.256 | AC5: 4.662 | AD5: 5.683 | AE5: 5.658 | AF5: 6.471 | AG5: 6.442 | AH5: 6.632 | AI5: 7.094 | AJ5: 7.3 | AK5: 7.934 | AL5: 8.862 | AM5: 8.41 | AN5: 8.78 | AO5: 8.143 | AP5: 9.125 | AQ5: 10.389 | AR5: 11.552 | AS5: 11.077
A6: 8.3 Oljeraffinerier | J6: 0.448 | K6: 0.431 | L6: 0.472 | M6: 0.51 | N6: 0.517 | O6: 0.489 | P6: 0.501 | Q6: 0.496 | R6: 0.517 | S6: 0.507 | T6: 0.511 | U6: 0.431 | V6: 0.426 | W6: 0.542 | X6: 0.526 | Y6: 0.56 | Z6: 0.495 | AA6: 0.579 | AB6: 0.526 | AC6: 0.573 | AD6: 0.511 | AE6: 0.551 | AF6: 0.537 | AG6: 0.555 | AH6: 0.507 | AI6: 0.526 | AJ6: 0.48 | AK6: 0.542 | AL6: 0.544 | AM6: 0.509 | AN6: 0.528 | AO6: 0.508 | AP6: 0.373 | AQ6: 0.398 | AR6: 0.382 | AS6: 0.382
A7: 8.4 og 8.5 Pumpekraft og egenbruk | G7: 0.7 | H7: 1.4 | I7: 1.7 | J7: 1.389 | K7: 1.602 | L7: 1.562 | M7: 1.441 | N7: 2.248 | O7: 1.977 | P7: 1.022 | Q7: 2.283 | R7: 1.532 | S7: 1.633 | T7: 1.374 | U7: 1.509 | V7: 1.284 | W7: 1.373 | X7: 1.319 | Y7: 1.748 | Z7: 1.114 | AA7: 2.12 | AB7: 2.054 | AC7: 1.808 | AD7: 1.102 | AE7: 2.378 | AF7: 2.17 | AG7: 1.471 | AH7: 1.763 | AI7: 2.46 | AJ7: 1.798 | AK7: 2.237 | AL7: 1.964 | AM7: 1.992 | AN7: 1.75 | AO7: 1.45 | AP7: 2.356 | AQ7: 2.577 | AR7: 2.413 | AS7: 2.25
